BEGIN:VCALENDAR
VERSION:2.0
PRODID:ShowClix//ShowClix//EN
BEGIN:VTIMEZONE
TZID:Pacific/Guam
END:VTIMEZONE
BEGIN:VEVENT
DTSTART;TZID=Pacific/Guam:20260508T230000
DTEND;TZID=Pacific/Guam:20260509T200000
SUMMARY:Musubi for Marianas
DESCRIPTION:Show details available at https://events.guamtime.net/event/musubi-for-marianas
LOCATION:Pono Hawaiian Grill
GEO:13.476882;144.750717
END:VEVENT
END:VCALENDAR
